BEGIN:VCALENDAR
VERSION:2.0
PRODID:-//ZContent.net//ZapCalLib 1.0//EN
CALSCALE:GREGORIAN
METHOD:PUBLISH
BEGIN:VEVENT
SUMMARY:<strong>Dyskusja</strong>
DTSTART:20260623T175500
DTEND:20260623T200500
UID:<strong>Dyskusja</strong>59330_1776722422
DTSTAMP:20260420T220022
Description:
END:VEVENT
END:VCALENDAR
