BEGIN:VCALENDAR
VERSION:2.0
PRODID:-//ZContent.net//ZapCalLib 1.0//EN
CALSCALE:GREGORIAN
METHOD:PUBLISH
BEGIN:VEVENT
SUMMARY:<strong>Jak radzić sobie z problemem otyłości w przewlekłej cho
 robie nerek?  </strong>
DTSTART:20260623T173500
DTEND:20260623T195500
UID:<strong>Jak radzić sobie z problemem otyłości w przewlekłej chorobi
 e nerek?  </strong>59329_1776722250
DTSTAMP:20260420T215730
Description:
END:VEVENT
END:VCALENDAR
