BEGIN:VCALENDAR
VERSION:2.0
PRODID:-//ZContent.net//ZapCalLib 1.0//EN
CALSCALE:GREGORIAN
METHOD:PUBLISH
BEGIN:VEVENT
SUMMARY:<strong>Leczenie nefropatii toczniowej </strong>
DTSTART:20260623T171500
DTEND:20260623T193500
UID:<strong>Leczenie nefropatii toczniowej </strong>59328_1776722342
DTSTAMP:20260420T215902
Description:
END:VEVENT
END:VCALENDAR
