BEGIN:VCALENDAR
VERSION:2.0
PRODID:-//ZContent.net//ZapCalLib 1.0//EN
CALSCALE:GREGORIAN
METHOD:PUBLISH
BEGIN:VEVENT
SUMMARY:<strong>Postępowanie w niedokrwistości  </strong>
DTSTART:20260623T165500
DTEND:20260623T191500
UID:<strong>Postępowanie w niedokrwistości  </strong>59327_1776721938
DTSTAMP:20260420T215218
Description:
END:VEVENT
END:VCALENDAR
