BEGIN:VCALENDAR
VERSION:2.0
PRODID:-//ZContent.net//ZapCalLib 1.0//EN
CALSCALE:GREGORIAN
METHOD:PUBLISH
BEGIN:VEVENT
SUMMARY:<strong>Nowe możliwości leczenia zapaleń naczyń z przeciwciała
 m</strong>
DTSTART:20260623T163500
DTEND:20260623T185500
UID:<strong>Nowe możliwości leczenia zapaleń naczyń z przeciwciałam</s
 trong>59326_1776722147
DTSTAMP:20260420T215547
Description:
END:VEVENT
END:VCALENDAR
