BEGIN:VCALENDAR
VERSION:2.0
PRODID:-//ZContent.net//ZapCalLib 1.0//EN
CALSCALE:GREGORIAN
METHOD:PUBLISH
BEGIN:VEVENT
SUMMARY:<strong>Powitanie uczestników</strong>
DTSTART:20260623T163000
DTEND:20260623T183500
UID:<strong>Powitanie uczestników</strong>59325_1776722048
DTSTAMP:20260420T215408
Description:
END:VEVENT
END:VCALENDAR
